Package: CTDquerier Version: 2.14.0 Command: /home/biocbuild/R/R/bin/R CMD build --keep-empty-dirs --no-resave-data CTDquerier StartedAt: 2025-02-03 22:55:29 -0000 (Mon, 03 Feb 2025) EndedAt: 2025-02-03 22:55:32 -0000 (Mon, 03 Feb 2025) EllapsedTime: 3.0 seconds RetCode: 0 Status: OK PackageFile: CTDquerier_2.14.0.tar.gz PackageFileSize: 2.803 MiB