Package: CTDquerier Version: 2.14.0 Command: /home/biocbuild/R/R/bin/R CMD check --install=check:CTDquerier.install-out.txt --library=/home/biocbuild/R/R/site-library --no-vignettes --timings CTDquerier_2.14.0.tar.gz StartedAt: 2025-02-04 06:04:09 -0000 (Tue, 04 Feb 2025) EndedAt: 2025-02-04 06:06:14 -0000 (Tue, 04 Feb 2025) EllapsedTime: 125.1 seconds RetCode: 0 Status: WARNINGS CheckDir: CTDquerier.Rcheck Warnings: 1