Package: CTSV Version: 1.8.0 Command: chmod a+r CTSV -R && F:\biocbuild\bbs-3.20-bioc\R\bin\R.exe CMD build --keep-empty-dirs --no-resave-data CTSV StartedAt: 2025-02-03 18:26:32 -0500 (Mon, 03 Feb 2025) EndedAt: 2025-02-03 18:27:47 -0500 (Mon, 03 Feb 2025) EllapsedTime: 75.6 seconds RetCode: 0 Status: OK PackageFile: CTSV_1.8.0.tar.gz PackageFileSize: 303.6 KiB