Package: CTSV Version: 1.8.0 Command: /home/biocbuild/R/R/bin/R CMD build --keep-empty-dirs --no-resave-data CTSV StartedAt: 2025-02-03 22:56:12 -0000 (Mon, 03 Feb 2025) EndedAt: 2025-02-03 22:57:09 -0000 (Mon, 03 Feb 2025) EllapsedTime: 57.0 seconds RetCode: 0 Status: OK PackageFile: CTSV_1.8.0.tar.gz PackageFileSize: 371.3 KiB