Package: CTdata Version: 1.6.0 Command: rm -rf CTdata.buildbin-libdir && mkdir CTdata.buildbin-libdir && /Users/biocbuild/BBS/utils/build-universal.sh CTdata_1.6.0.tar.gz /Library/Frameworks/R.framework/Resources/bin/R CTdata.buildbin-libdir StartedAt: 2025-02-12 14:41:01 -0500 (Wed, 12 Feb 2025) EndedAt: 2025-02-12 14:41:21 -0500 (Wed, 12 Feb 2025) EllapsedTime: 19.9 seconds RetCode: 0 Status: OK PackageFile: CTdata_1.6.0.tgz PackageFileSize: 6.425 MiB