Package: CTdata Version: 1.6.0 Command: /home/biocbuild/bbs-3.20-bioc/R/bin/R CMD INSTALL CTdata StartedAt: 2025-02-03 15:26:20 -0500 (Mon, 03 Feb 2025) EndedAt: 2025-02-03 15:26:35 -0500 (Mon, 03 Feb 2025) EllapsedTime: 15.5 seconds RetCode: 0 Status: OK