Package: CTdata Version: 1.6.0 Command: rm -rf CTdata.buildbin-libdir && mkdir CTdata.buildbin-libdir && F:\biocbuild\bbs-3.20-bioc\R\bin\R.exe CMD INSTALL --build --library=CTdata.buildbin-libdir CTdata_1.6.0.tar.gz StartedAt: 2025-02-04 08:18:02 -0500 (Tue, 04 Feb 2025) EndedAt: 2025-02-04 08:18:28 -0500 (Tue, 04 Feb 2025) EllapsedTime: 25.3 seconds RetCode: 0 Status: OK PackageFile: CTdata_1.6.0.zip PackageFileSize: 6.445 MiB