Package: CTdata Version: 1.6.0 Command: chmod a+r CTdata -R && F:\biocbuild\bbs-3.20-bioc\R\bin\R.exe CMD build --keep-empty-dirs --no-resave-data CTdata StartedAt: 2025-02-03 18:26:05 -0500 (Mon, 03 Feb 2025) EndedAt: 2025-02-03 18:38:04 -0500 (Mon, 03 Feb 2025) EllapsedTime: 719.8 seconds RetCode: 0 Status: OK PackageFile: CTdata_1.6.0.tar.gz PackageFileSize: 6.971 MiB