Package: CTdata Version: 1.6.0 Command: /home/biocbuild/R/R/bin/R CMD check --install=check:CTdata.install-out.txt --library=/home/biocbuild/R/R/site-library --no-vignettes --timings CTdata_1.6.0.tar.gz StartedAt: 2025-02-04 06:04:03 -0000 (Tue, 04 Feb 2025) EndedAt: 2025-02-04 06:06:28 -0000 (Tue, 04 Feb 2025) EllapsedTime: 145.1 seconds RetCode: 0 Status: OK CheckDir: CTdata.Rcheck Warnings: 0