Package: CTexploreR Version: 1.2.0 Command: rm -rf CTexploreR.buildbin-libdir && mkdir CTexploreR.buildbin-libdir && /Users/biocbuild/BBS/utils/build-universal.sh CTexploreR_1.2.0.tar.gz /Library/Frameworks/R.framework/Resources/bin/R CTexploreR.buildbin-libdir StartedAt: 2025-02-05 15:27:04 -0500 (Wed, 05 Feb 2025) EndedAt: 2025-02-05 15:27:59 -0500 (Wed, 05 Feb 2025) EllapsedTime: 54.5 seconds RetCode: 0 Status: OK PackageFile: CTexploreR_1.2.0.tgz PackageFileSize: 10.15 MiB