Package: CTexploreR Version: 1.2.0 Command: /Library/Frameworks/R.framework/Resources/bin/R CMD INSTALL CTexploreR StartedAt: 2025-02-03 16:20:25 -0500 (Mon, 03 Feb 2025) EndedAt: 2025-02-03 16:21:17 -0500 (Mon, 03 Feb 2025) EllapsedTime: 52.0 seconds RetCode: 0 Status: OK