Package: CTexploreR Version: 1.2.0 Command: /Library/Frameworks/R.framework/Resources/bin/R CMD build --keep-empty-dirs --no-resave-data CTexploreR StartedAt: 2025-02-03 18:12:28 -0500 (Mon, 03 Feb 2025) EndedAt: 2025-02-03 18:34:04 -0500 (Mon, 03 Feb 2025) EllapsedTime: 1295.8 seconds RetCode: 0 Status: OK PackageFile: CTexploreR_1.2.0.tar.gz PackageFileSize: 7.538 MiB