Package: CTexploreR Version: 1.2.0 Command: rm -rf CTexploreR.buildbin-libdir && mkdir CTexploreR.buildbin-libdir && F:\biocbuild\bbs-3.20-bioc\R\bin\R.exe CMD INSTALL --build --library=CTexploreR.buildbin-libdir CTexploreR_1.2.0.tar.gz StartedAt: 2025-02-04 08:18:11 -0500 (Tue, 04 Feb 2025) EndedAt: 2025-02-04 08:22:21 -0500 (Tue, 04 Feb 2025) EllapsedTime: 249.9 seconds RetCode: 0 Status: OK PackageFile: CTexploreR_1.2.0.zip PackageFileSize: 7.949 MiB