Package: CTexploreR Version: 1.2.0 Command: /home/biocbuild/R/R/bin/R CMD build --keep-empty-dirs --no-resave-data CTexploreR StartedAt: 2025-02-03 22:55:32 -0000 (Mon, 03 Feb 2025) EndedAt: 2025-02-03 23:08:56 -0000 (Mon, 03 Feb 2025) EllapsedTime: 804.3 seconds RetCode: 0 Status: OK PackageFile: CTexploreR_1.2.0.tar.gz PackageFileSize: 4.459 MiB