Package: CTexploreR Version: 1.2.0 Command: /home/biocbuild/R/R/bin/R CMD INSTALL CTexploreR StartedAt: 2025-02-03 20:50:27 -0000 (Mon, 03 Feb 2025) EndedAt: 2025-02-03 20:51:38 -0000 (Mon, 03 Feb 2025) EllapsedTime: 70.8 seconds RetCode: 0 Status: OK