Package: CaDrA Version: 1.4.0 Command: /Library/Frameworks/R.framework/Resources/bin/R CMD build --keep-empty-dirs --no-resave-data CaDrA StartedAt: 2025-02-03 17:35:37 -0500 (Mon, 03 Feb 2025) EndedAt: 2025-02-03 17:40:53 -0500 (Mon, 03 Feb 2025) EllapsedTime: 316.5 seconds RetCode: 0 Status: OK PackageFile: CaDrA_1.4.0.tar.gz PackageFileSize: 2.49 MiB