Package: CaDrA Version: 1.4.0 Command: /Library/Frameworks/R.framework/Resources/bin/R CMD INSTALL CaDrA StartedAt: 2025-02-03 15:54:14 -0500 (Mon, 03 Feb 2025) EndedAt: 2025-02-03 15:55:08 -0500 (Mon, 03 Feb 2025) EllapsedTime: 53.4 seconds RetCode: 0 Status: OK