Package: CaDrA Version: 1.4.0 Command: /home/biocbuild/bbs-3.20-bioc/R/bin/R CMD build --keep-empty-dirs --no-resave-data --md5 CaDrA StartedAt: 2025-02-10 16:33:21 -0500 (Mon, 10 Feb 2025) EndedAt: 2025-02-10 16:35:32 -0500 (Mon, 10 Feb 2025) EllapsedTime: 131.1 seconds RetCode: 0 Status: OK PackageFile: CaDrA_1.4.0.tar.gz PackageFileSize: 2.386 MiB