Package: CaDrA Version: 1.4.0 Command: /home/biocbuild/bbs-3.20-bioc/R/bin/R CMD INSTALL CaDrA StartedAt: 2025-02-03 15:34:56 -0500 (Mon, 03 Feb 2025) EndedAt: 2025-02-03 15:35:20 -0500 (Mon, 03 Feb 2025) EllapsedTime: 24.3 seconds RetCode: 0 Status: OK