Package: CaMutQC Version: 1.2.0 Command: rm -rf CaMutQC.buildbin-libdir && mkdir CaMutQC.buildbin-libdir && /Users/biocbuild/BBS/utils/build-universal.sh CaMutQC_1.2.0.tar.gz /Library/Frameworks/R.framework/Resources/bin/R CaMutQC.buildbin-libdir StartedAt: 2025-02-05 15:05:37 -0500 (Wed, 05 Feb 2025) EndedAt: 2025-02-05 15:06:13 -0500 (Wed, 05 Feb 2025) EllapsedTime: 35.9 seconds RetCode: 0 Status: OK PackageFile: CaMutQC_1.2.0.tgz PackageFileSize: 4.116 MiB