Package: CaMutQC Version: 1.2.0 Command: /Library/Frameworks/R.framework/Resources/bin/R CMD build --keep-empty-dirs --no-resave-data CaMutQC StartedAt: 2025-02-03 17:36:37 -0500 (Mon, 03 Feb 2025) EndedAt: 2025-02-03 17:39:40 -0500 (Mon, 03 Feb 2025) EllapsedTime: 182.7 seconds RetCode: 0 Status: OK PackageFile: CaMutQC_1.2.0.tar.gz PackageFileSize: 4.843 MiB