Package: Cardinal Version: 3.8.3 Command: /Library/Frameworks/R.framework/Resources/bin/R CMD INSTALL Cardinal StartedAt: 2025-01-30 16:37:01 -0500 (Thu, 30 Jan 2025) EndedAt: 2025-01-30 16:37:29 -0500 (Thu, 30 Jan 2025) EllapsedTime: 27.8 seconds RetCode: 0 Status: OK