Package: Cardinal Version: 3.8.3 Command: /Library/Frameworks/R.framework/Resources/bin/R CMD INSTALL Cardinal StartedAt: 2025-01-30 15:56:21 -0500 (Thu, 30 Jan 2025) EndedAt: 2025-01-30 15:57:21 -0500 (Thu, 30 Jan 2025) EllapsedTime: 60.5 seconds RetCode: 0 Status: OK