Package: Cardinal Version: 3.8.3 Command: /home/biocbuild/bbs-3.20-bioc/R/bin/R CMD build --keep-empty-dirs --no-resave-data --md5 Cardinal StartedAt: 2025-01-30 16:33:27 -0500 (Thu, 30 Jan 2025) EndedAt: 2025-01-30 16:40:01 -0500 (Thu, 30 Jan 2025) EllapsedTime: 393.5 seconds RetCode: 0 Status: OK PackageFile: Cardinal_3.8.3.tar.gz PackageFileSize: 5.187 MiB