Package: Cardinal Version: 3.8.3 Command: /home/biocbuild/bbs-3.20-bioc/R/bin/R CMD check --install=check:Cardinal.install-out.txt --library=/home/biocbuild/bbs-3.20-bioc/R/site-library --timings Cardinal_3.8.3.tar.gz StartedAt: 2025-01-30 20:32:25 -0500 (Thu, 30 Jan 2025) EndedAt: 2025-01-30 20:44:38 -0500 (Thu, 30 Jan 2025) EllapsedTime: 732.9 seconds RetCode: 0 Status: OK CheckDir: Cardinal.Rcheck Warnings: 0