Package: Cardinal Version: 3.8.3 Command: F:\biocbuild\bbs-3.20-bioc\R\bin\R.exe CMD check --no-multiarch --install=check:Cardinal.install-out.txt --library=F:\biocbuild\bbs-3.20-bioc\R\library --no-vignettes --timings Cardinal_3.8.3.tar.gz StartedAt: 2025-01-31 00:10:55 -0500 (Fri, 31 Jan 2025) EndedAt: 2025-01-31 00:21:00 -0500 (Fri, 31 Jan 2025) EllapsedTime: 605.5 seconds RetCode: 0 Status: OK CheckDir: Cardinal.Rcheck Warnings: 0