Package: Cardinal Version: 3.8.3 Command: F:\biocbuild\bbs-3.20-bioc\R\bin\R.exe CMD INSTALL Cardinal StartedAt: 2025-01-30 15:49:42 -0500 (Thu, 30 Jan 2025) EndedAt: 2025-01-30 15:52:29 -0500 (Thu, 30 Jan 2025) EllapsedTime: 166.3 seconds RetCode: 0 Status: OK