Package: CardinalIO Version: 1.4.0 Command: /Library/Frameworks/R.framework/Resources/bin/R CMD check --install=check:CardinalIO.install-out.txt --library=/Library/Frameworks/R.framework/Resources/library --no-vignettes --timings CardinalIO_1.4.0.tar.gz StartedAt: 2025-02-04 13:52:51 -0500 (Tue, 04 Feb 2025) EndedAt: 2025-02-04 13:54:31 -0500 (Tue, 04 Feb 2025) EllapsedTime: 100.1 seconds RetCode: 0 Status: OK CheckDir: CardinalIO.Rcheck Warnings: 0