Package: CardinalIO Version: 1.4.0 Command: /Library/Frameworks/R.framework/Resources/bin/R CMD check --install=check:CardinalIO.install-out.txt --library=/Library/Frameworks/R.framework/Resources/library --no-vignettes --timings CardinalIO_1.4.0.tar.gz StartedAt: 2025-02-04 00:48:25 -0500 (Tue, 04 Feb 2025) EndedAt: 2025-02-04 00:51:30 -0500 (Tue, 04 Feb 2025) EllapsedTime: 185.3 seconds RetCode: 0 Status: OK CheckDir: CardinalIO.Rcheck Warnings: 0