Package: CardinalIO Version: 1.4.0 Command: /home/biocbuild/R/R/bin/R CMD check --install=check:CardinalIO.install-out.txt --library=/home/biocbuild/R/R/site-library --no-vignettes --timings CardinalIO_1.4.0.tar.gz StartedAt: 2025-02-04 05:20:02 -0000 (Tue, 04 Feb 2025) EndedAt: 2025-02-04 05:21:42 -0000 (Tue, 04 Feb 2025) EllapsedTime: 100.1 seconds RetCode: 0 Status: OK CheckDir: CardinalIO.Rcheck Warnings: 0