Package: Category Version: 2.72.0 Command: rm -rf Category.buildbin-libdir && mkdir Category.buildbin-libdir && /Users/biocbuild/BBS/utils/build-universal.sh Category_2.72.0.tar.gz /Library/Frameworks/R.framework/Resources/bin/R Category.buildbin-libdir StartedAt: 2024-11-09 16:40:51 -0500 (Sat, 09 Nov 2024) EndedAt: 2024-11-09 16:41:01 -0500 (Sat, 09 Nov 2024) EllapsedTime: 10.2 seconds RetCode: 0 Status: OK PackageFile: Category_2.72.0.tgz PackageFileSize: 1.413 MiB