Package: Category Version: 2.72.0 Command: /Library/Frameworks/R.framework/Resources/bin/R CMD build --keep-empty-dirs --no-resave-data Category StartedAt: 2024-11-08 16:20:54 -0500 (Fri, 08 Nov 2024) EndedAt: 2024-11-08 16:21:32 -0500 (Fri, 08 Nov 2024) EllapsedTime: 37.4 seconds RetCode: 0 Status: OK PackageFile: Category_2.72.0.tar.gz PackageFileSize: 874 KiB