Package: Category Version: 2.72.0 Command: /home/biocbuild/R/R/bin/R CMD build --keep-empty-dirs --no-resave-data Category StartedAt: 2025-02-03 22:23:53 -0000 (Mon, 03 Feb 2025) EndedAt: 2025-02-03 22:25:25 -0000 (Mon, 03 Feb 2025) EllapsedTime: 92.0 seconds RetCode: 0 Status: OK PackageFile: Category_2.72.0.tar.gz PackageFileSize: 859.9 KiB