Package: CatsCradle Version: 1.0.0 Command: /Library/Frameworks/R.framework/Resources/bin/R CMD build --keep-empty-dirs --no-resave-data CatsCradle StartedAt: 2025-01-30 17:44:17 -0500 (Thu, 30 Jan 2025) EndedAt: 2025-01-30 17:57:18 -0500 (Thu, 30 Jan 2025) EllapsedTime: 781.6 seconds RetCode: 0 Status: OK PackageFile: CatsCradle_1.0.0.tar.gz PackageFileSize: 8.388 MiB