Package: CatsCradle Version: 1.0.0 Command: /home/biocbuild/bbs-3.20-bioc/R/bin/R CMD build --keep-empty-dirs --no-resave-data --md5 CatsCradle StartedAt: 2025-01-30 16:33:54 -0500 (Thu, 30 Jan 2025) EndedAt: 2025-01-30 16:40:16 -0500 (Thu, 30 Jan 2025) EllapsedTime: 381.5 seconds RetCode: 0 Status: OK PackageFile: CatsCradle_1.0.0.tar.gz PackageFileSize: 6.011 MiB