Package: CatsCradle Version: 1.0.0 Command: /home/biocbuild/bbs-3.20-bioc/R/bin/R CMD check --install=check:CatsCradle.install-out.txt --library=/home/biocbuild/bbs-3.20-bioc/R/site-library --timings CatsCradle_1.0.0.tar.gz StartedAt: 2025-01-30 20:33:27 -0500 (Thu, 30 Jan 2025) EndedAt: 2025-01-30 20:48:21 -0500 (Thu, 30 Jan 2025) EllapsedTime: 894.1 seconds RetCode: 0 Status: WARNINGS CheckDir: CatsCradle.Rcheck Warnings: 1