Package: CatsCradle Version: 1.0.0 Command: /home/biocbuild/bbs-3.20-bioc/R/bin/R CMD INSTALL CatsCradle StartedAt: 2025-01-30 15:43:55 -0500 (Thu, 30 Jan 2025) EndedAt: 2025-01-30 15:44:46 -0500 (Thu, 30 Jan 2025) EllapsedTime: 51.2 seconds RetCode: 0 Status: OK