Package: CatsCradle Version: 1.0.0 Command: rm -rf CatsCradle.buildbin-libdir && mkdir CatsCradle.buildbin-libdir && F:\biocbuild\bbs-3.20-bioc\R\bin\R.exe CMD INSTALL --build --library=CatsCradle.buildbin-libdir CatsCradle_1.0.0.tar.gz StartedAt: 2025-01-31 08:18:39 -0500 (Fri, 31 Jan 2025) EndedAt: 2025-01-31 08:20:14 -0500 (Fri, 31 Jan 2025) EllapsedTime: 94.8 seconds RetCode: 0 Status: OK PackageFile: CatsCradle_1.0.0.zip PackageFileSize: 3.122 MiB