Package: CatsCradle Version: 1.0.0 Command: chmod a+r CatsCradle -R && F:\biocbuild\bbs-3.20-bioc\R\bin\R.exe CMD build --keep-empty-dirs --no-resave-data CatsCradle StartedAt: 2025-01-30 17:45:22 -0500 (Thu, 30 Jan 2025) EndedAt: 2025-01-30 17:55:02 -0500 (Thu, 30 Jan 2025) EllapsedTime: 580.4 seconds RetCode: 0 Status: OK PackageFile: CatsCradle_1.0.0.tar.gz PackageFileSize: 3.122 MiB