Package: CatsCradle Version: 1.0.0 Command: /home/biocbuild/R/R/bin/R CMD build --keep-empty-dirs --no-resave-data CatsCradle StartedAt: 2025-01-30 22:21:44 -0000 (Thu, 30 Jan 2025) EndedAt: 2025-01-30 22:29:56 -0000 (Thu, 30 Jan 2025) EllapsedTime: 492.1 seconds RetCode: 0 Status: OK PackageFile: CatsCradle_1.0.0.tar.gz PackageFileSize: 3.595 MiB