Package: CausalR Version: 1.38.0 Command: rm -rf CausalR.buildbin-libdir && mkdir CausalR.buildbin-libdir && /Users/biocbuild/BBS/utils/build-universal.sh CausalR_1.38.0.tar.gz /Library/Frameworks/R.framework/Resources/bin/R CausalR.buildbin-libdir StartedAt: 2024-11-20 04:17:47 -0500 (Wed, 20 Nov 2024) EndedAt: 2024-11-20 04:17:55 -0500 (Wed, 20 Nov 2024) EllapsedTime: 8.1 seconds RetCode: 0 Status: OK PackageFile: CausalR_1.38.0.tgz PackageFileSize: 640 KiB