Package: CausalR Version: 1.38.0 Command: rm -rf CausalR.buildbin-libdir && mkdir CausalR.buildbin-libdir && /Users/biocbuild/BBS/utils/build-universal.sh CausalR_1.38.0.tar.gz /Library/Frameworks/R.framework/Resources/bin/R CausalR.buildbin-libdir StartedAt: 2025-02-04 12:36:08 -0500 (Tue, 04 Feb 2025) EndedAt: 2025-02-04 12:36:19 -0500 (Tue, 04 Feb 2025) EllapsedTime: 10.9 seconds RetCode: 0 Status: OK PackageFile: CausalR_1.38.0.tgz PackageFileSize: 639.9 KiB