Package: CausalR Version: 1.38.0 Command: /Library/Frameworks/R.framework/Resources/bin/R CMD build --keep-empty-dirs --no-resave-data CausalR StartedAt: 2025-02-03 17:39:59 -0500 (Mon, 03 Feb 2025) EndedAt: 2025-02-03 17:41:34 -0500 (Mon, 03 Feb 2025) EllapsedTime: 94.7 seconds RetCode: 0 Status: OK PackageFile: CausalR_1.38.0.tar.gz PackageFileSize: 573.4 KiB