Package: CausalR Version: 1.38.0 Command: /Library/Frameworks/R.framework/Resources/bin/R CMD check --install=check:CausalR.install-out.txt --library=/Library/Frameworks/R.framework/Resources/library --no-vignettes --timings CausalR_1.38.0.tar.gz StartedAt: 2025-02-04 00:49:23 -0500 (Tue, 04 Feb 2025) EndedAt: 2025-02-04 00:50:32 -0500 (Tue, 04 Feb 2025) EllapsedTime: 69.8 seconds RetCode: 0 Status: OK CheckDir: CausalR.Rcheck Warnings: 0