Package: CausalR Version: 1.38.0 Command: /home/biocbuild/R/R/bin/R CMD build --keep-empty-dirs --no-resave-data CausalR StartedAt: 2025-02-03 22:24:31 -0000 (Mon, 03 Feb 2025) EndedAt: 2025-02-03 22:25:04 -0000 (Mon, 03 Feb 2025) EllapsedTime: 33.0 seconds RetCode: 0 Status: OK PackageFile: CausalR_1.38.0.tar.gz PackageFileSize: 561.2 KiB