Package: CeTF Version: 1.18.0 Command: rm -rf CeTF.buildbin-libdir && mkdir CeTF.buildbin-libdir && /Users/biocbuild/BBS/utils/build-universal.sh CeTF_1.18.0.tar.gz /Library/Frameworks/R.framework/Resources/bin/R CeTF.buildbin-libdir StartedAt: 2025-02-19 14:28:45 -0500 (Wed, 19 Feb 2025) EndedAt: 2025-02-19 14:29:50 -0500 (Wed, 19 Feb 2025) EllapsedTime: 65.1 seconds RetCode: 0 Status: OK PackageFile: CeTF_1.18.0.tgz PackageFileSize: 4.337 <A href="http://en.wikipedia.org/wiki/MiB" target="_blank">MiB</A>