Package: CellBarcode Version: 1.12.0 Command: rm -rf CellBarcode.buildbin-libdir && mkdir CellBarcode.buildbin-libdir && F:\biocbuild\bbs-3.20-bioc\R\bin\R.exe CMD INSTALL --build --library=CellBarcode.buildbin-libdir CellBarcode_1.12.0.tar.gz StartedAt: 2025-02-04 08:09:27 -0500 (Tue, 04 Feb 2025) EndedAt: 2025-02-04 08:12:07 -0500 (Tue, 04 Feb 2025) EllapsedTime: 160.9 seconds RetCode: 0 Status: OK PackageFile: CellBarcode_1.12.0.zip PackageFileSize: 3.25 MiB