Package: CellBarcode Version: 1.12.0 Command: chmod a+r CellBarcode -R && F:\biocbuild\bbs-3.20-bioc\R\bin\R.exe CMD build --keep-empty-dirs --no-resave-data CellBarcode StartedAt: 2025-02-03 17:59:36 -0500 (Mon, 03 Feb 2025) EndedAt: 2025-02-03 18:02:00 -0500 (Mon, 03 Feb 2025) EllapsedTime: 144.5 seconds RetCode: 0 Status: OK PackageFile: CellBarcode_1.12.0.tar.gz PackageFileSize: 2.373 MiB