Package: CellBarcode Version: 1.12.0 Command: /home/biocbuild/R/R/bin/R CMD build --keep-empty-dirs --no-resave-data CellBarcode StartedAt: 2025-02-03 22:27:27 -0000 (Mon, 03 Feb 2025) EndedAt: 2025-02-03 22:29:32 -0000 (Mon, 03 Feb 2025) EllapsedTime: 125.0 seconds RetCode: 0 Status: OK PackageFile: CellBarcode_1.12.0.tar.gz PackageFileSize: 2.596 MiB