Package: CellBarcode
Version: 1.12.0
Command: /home/biocbuild/R/R/bin/R CMD check --install=check:CellBarcode.install-out.txt --library=/home/biocbuild/R/R/site-library --no-vignettes --timings CellBarcode_1.12.0.tar.gz
StartedAt: 2025-02-18 04:58:56 -0000 (Tue, 18 Feb 2025)
EndedAt: 2025-02-18 05:04:07 -0000 (Tue, 18 Feb 2025)
EllapsedTime: 311.2 seconds
RetCode: 0
Status: OK
CheckDir: CellBarcode.Rcheck
Warnings: 0